BEGIN:VCALENDAR
VERSION:2.0
PRODID:-//Explore Stone County - ECPv6.15.20//NONSGML v1.0//EN
CALSCALE:GREGORIAN
METHOD:PUBLISH
X-ORIGINAL-URL:https://explorestonecounty.com
X-WR-CALDESC:Events for Explore Stone County
REFRESH-INTERVAL;VALUE=DURATION:PT1H
X-Robots-Tag:noindex
X-PUBLISHED-TTL:PT1H
BEGIN:VTIMEZONE
TZID:America/Chicago
BEGIN:DAYLIGHT
TZOFFSETFROM:-0600
TZOFFSETTO:-0500
TZNAME:CDT
DTSTART:20230312T080000
END:DAYLIGHT
BEGIN:STANDARD
TZOFFSETFROM:-0500
TZOFFSETTO:-0600
TZNAME:CST
DTSTART:20231105T070000
END:STANDARD
BEGIN:DAYLIGHT
TZOFFSETFROM:-0600
TZOFFSETTO:-0500
TZNAME:CDT
DTSTART:20240310T080000
END:DAYLIGHT
BEGIN:STANDARD
TZOFFSETFROM:-0500
TZOFFSETTO:-0600
TZNAME:CST
DTSTART:20241103T070000
END:STANDARD
BEGIN:DAYLIGHT
TZOFFSETFROM:-0600
TZOFFSETTO:-0500
TZNAME:CDT
DTSTART:20250309T080000
END:DAYLIGHT
BEGIN:STANDARD
TZOFFSETFROM:-0500
TZOFFSETTO:-0600
TZNAME:CST
DTSTART:20251102T070000
END:STANDARD
END:VTIMEZONE
BEGIN:VEVENT
DTSTART;TZID=America/Chicago:20241217T080000
DTEND;TZID=America/Chicago:20241222T120000
DTSTAMP:20260420T024809
CREATED:20241206T164105Z
LAST-MODIFIED:20241206T164105Z
UID:2415-1734422400-1734868800@explorestonecounty.com
SUMMARY:Pancakes with the Grinch
DESCRIPTION:“Am I just eating because I’m 𝙗𝙤𝙧𝙚𝙙?” Wild Acres is giving the most important meal of the day a WILD upgrade – WITH 𝐓𝐇𝐄 𝐆𝐑𝐈𝐍𝐂𝐇! \nEnjoy a delicious outdoor pancake breakfast buffet among the sights and sounds of the Zoo! After clearing your plate\, you’ll have your very own meet and greet with Luna the Sloth while listening to a short sloth keeper talk. \nNext on your morning agenda\, you’ll embark on a ~hands-on~ tour where you will meet some of the most interesting animals in the animal kingdom! \nSpace is limited for this event\, so don’t delay in securing your tickets. \nGet Tickets Here!
URL:https://explorestonecounty.com/event/pancakes-with-the-grinch/
LOCATION:MS
ATTACH;FMTTYPE=image/jpeg:https://explorestonecounty.com/wp-content/uploads/2024/12/grinch.jpg
END:VEVENT
BEGIN:VEVENT
DTSTART;VALUE=DATE:20241221
DTEND;VALUE=DATE:20241222
DTSTAMP:20260420T024809
CREATED:20241206T164038Z
LAST-MODIFIED:20241206T164038Z
UID:2408-1734739200-1734825599@explorestonecounty.com
SUMMARY:Christmas at the Farm\, A Seated Dinner Event
DESCRIPTION:Advance Tickets are required. \nFor our family\, Christmas dinner is a magical time. The hustle and bustle stops for just a little bit. The cooking is done. Cleanup will come later. It’s time to just relax. Your friends and family are gathered around the table with you. Laughter and memories are shared. New memories are made.  It’s a special time for us and we want to share that feeling with you. \nJoin us for a delicious Christmas dinner in an intimate setting that will enable you to create these special moments with your family. \n​After dinner is finished\, we invite you to join us for our live Nativity event\, One Night at the Stable. \nYour ticket includes:\nDinner\nMusic\nSmores around the firepit\, each guest will receive an individual Smores kit.\nOne Night at the Stable presentation \nDinner Menu:\nFresh Baked breads with homemade honey butter\nCornbread Dressing\nHam\nPork Tenderloin\nTurkey\nGreen Beans\nSweet Potato Casserole\nAssorted Desserts from our bakery\nTea\, Water\, and Coffee \nGroups will be seated in the same way tickets are purchased so please make sure to purchase tickets for your entire group at one time. We cannot guarantee that separate ticket orders will be seated together or near each other.
URL:https://explorestonecounty.com/event/christmas-at-the-farm-a-seated-dinner-event/
LOCATION:MS
ATTACH;FMTTYPE=image/jpeg:https://explorestonecounty.com/wp-content/uploads/2024/12/christmas-at-the-farm.jpg
END:VEVENT
BEGIN:VEVENT
DTSTART;TZID=America/Chicago:20241221T190000
DTEND;TZID=America/Chicago:20241221T200000
DTSTAMP:20260420T024809
CREATED:20241206T164032Z
LAST-MODIFIED:20241206T164032Z
UID:2411-1734807600-1734811200@explorestonecounty.com
SUMMARY:One Night at the Stable
DESCRIPTION:
URL:https://explorestonecounty.com/event/one-night-at-the-stable-2/
LOCATION:MS
ATTACH;FMTTYPE=image/jpeg:https://explorestonecounty.com/wp-content/uploads/2024/12/one-night-stable.jpg
END:VEVENT
END:VCALENDAR