BEGIN:VCALENDAR
VERSION:2.0
PRODID:-//Explore Stone County - ECPv6.15.20//NONSGML v1.0//EN
CALSCALE:GREGORIAN
METHOD:PUBLISH
X-WR-CALNAME:Explore Stone County
X-ORIGINAL-URL:https://explorestonecounty.com
X-WR-CALDESC:Events for Explore Stone County
REFRESH-INTERVAL;VALUE=DURATION:PT1H
X-Robots-Tag:noindex
X-PUBLISHED-TTL:PT1H
BEGIN:VTIMEZONE
TZID:America/Chicago
BEGIN:DAYLIGHT
TZOFFSETFROM:-0600
TZOFFSETTO:-0500
TZNAME:CDT
DTSTART:20230312T080000
END:DAYLIGHT
BEGIN:STANDARD
TZOFFSETFROM:-0500
TZOFFSETTO:-0600
TZNAME:CST
DTSTART:20231105T070000
END:STANDARD
BEGIN:DAYLIGHT
TZOFFSETFROM:-0600
TZOFFSETTO:-0500
TZNAME:CDT
DTSTART:20240310T080000
END:DAYLIGHT
BEGIN:STANDARD
TZOFFSETFROM:-0500
TZOFFSETTO:-0600
TZNAME:CST
DTSTART:20241103T070000
END:STANDARD
BEGIN:DAYLIGHT
TZOFFSETFROM:-0600
TZOFFSETTO:-0500
TZNAME:CDT
DTSTART:20250309T080000
END:DAYLIGHT
BEGIN:STANDARD
TZOFFSETFROM:-0500
TZOFFSETTO:-0600
TZNAME:CST
DTSTART:20251102T070000
END:STANDARD
END:VTIMEZONE
BEGIN:VEVENT
DTSTART;TZID=America/Chicago:20241217T080000
DTEND;TZID=America/Chicago:20241222T120000
DTSTAMP:20260420T044843
CREATED:20241206T164105Z
LAST-MODIFIED:20241206T164105Z
UID:2415-1734422400-1734868800@explorestonecounty.com
SUMMARY:Pancakes with the Grinch
DESCRIPTION:“Am I just eating because I’m 𝙗𝙤𝙧𝙚𝙙?” Wild Acres is giving the most important meal of the day a WILD upgrade – WITH 𝐓𝐇𝐄 𝐆𝐑𝐈𝐍𝐂𝐇! \nEnjoy a delicious outdoor pancake breakfast buffet among the sights and sounds of the Zoo! After clearing your plate\, you’ll have your very own meet and greet with Luna the Sloth while listening to a short sloth keeper talk. \nNext on your morning agenda\, you’ll embark on a ~hands-on~ tour where you will meet some of the most interesting animals in the animal kingdom! \nSpace is limited for this event\, so don’t delay in securing your tickets. \nGet Tickets Here!
URL:https://explorestonecounty.com/event/pancakes-with-the-grinch/
LOCATION:MS
ATTACH;FMTTYPE=image/jpeg:https://explorestonecounty.com/wp-content/uploads/2024/12/grinch.jpg
END:VEVENT
BEGIN:VEVENT
DTSTART;VALUE=DATE:20241218
DTEND;VALUE=DATE:20241219
DTSTAMP:20260420T044843
CREATED:20241206T164055Z
LAST-MODIFIED:20241206T164055Z
UID:2405-1734480000-1734566399@explorestonecounty.com
SUMMARY:Shop Small Crawl Live Drawing
DESCRIPTION:
URL:https://explorestonecounty.com/event/shop-small-crawl-live-drawing/
LOCATION:MS
ATTACH;FMTTYPE=image/png:https://explorestonecounty.com/wp-content/uploads/2024/11/SC_ShopSmallCrawl_updateAPPROVED_1104-scaled.png
END:VEVENT
END:VCALENDAR